BEGIN:VCALENDAR
VERSION:2.0
PRODID:-//Wallénhallen - ECPv6.15.20//NONSGML v1.0//EN
CALSCALE:GREGORIAN
METHOD:PUBLISH
X-WR-CALNAME:Wallénhallen
X-ORIGINAL-URL:https://wallenhallen.se
X-WR-CALDESC:Händelser för Wallénhallen
REFRESH-INTERVAL;VALUE=DURATION:PT1H
X-Robots-Tag:noindex
X-PUBLISHED-TTL:PT1H
BEGIN:VTIMEZONE
TZID:Europe/Stockholm
BEGIN:DAYLIGHT
TZOFFSETFROM:+0100
TZOFFSETTO:+0200
TZNAME:CEST
DTSTART:20240331T010000
END:DAYLIGHT
BEGIN:STANDARD
TZOFFSETFROM:+0200
TZOFFSETTO:+0100
TZNAME:CET
DTSTART:20241027T010000
END:STANDARD
BEGIN:DAYLIGHT
TZOFFSETFROM:+0100
TZOFFSETTO:+0200
TZNAME:CEST
DTSTART:20250330T010000
END:DAYLIGHT
BEGIN:STANDARD
TZOFFSETFROM:+0200
TZOFFSETTO:+0100
TZNAME:CET
DTSTART:20251026T010000
END:STANDARD
BEGIN:DAYLIGHT
TZOFFSETFROM:+0100
TZOFFSETTO:+0200
TZNAME:CEST
DTSTART:20260329T010000
END:DAYLIGHT
BEGIN:STANDARD
TZOFFSETFROM:+0200
TZOFFSETTO:+0100
TZNAME:CET
DTSTART:20261025T010000
END:STANDARD
END:VTIMEZONE
BEGIN:VEVENT
DTSTART;TZID=Europe/Stockholm:20250802T093000
DTEND;TZID=Europe/Stockholm:20250802T113000
DTSTAMP:20260422T054948
CREATED:20250729T073422Z
LAST-MODIFIED:20250804T071030Z
UID:3482-1754127000-1754134200@wallenhallen.se
SUMMARY:Utställning - Arbeten från workshopen WashiArt
DESCRIPTION:Leksands folkhögskolas workshop WASHIART\, som leds av den japanska papperskonstnären Yuko Nishimura tillsammans med Miro Burman\, bokbindare och pappersproduktformgivare\, avslutar med att visa sina arbeten i en gemensam utställning. \nLördag den 2 augusti kl. 9.30-11.30 i Wallénhallen\, Leksands folkhögskola. \nVarmt välkommen! \nWorkshopen WASHIART genomförs med stöd från REGION DALARNA BILD OCH FORM. \nLäs mer om workshopen WASHIART via den här länken:\nhttps://leksand.fhsk.se/utbildningar/workshop-residens-washiart-fran-japansk-origami-estetik-till-konstnarliga-uttryck/
URL:https://wallenhallen.se/aktivitet/utstallning-arbeten-fran-workshopen-washiart/
CATEGORIES:Avslutat evenemang,Utställningar
ATTACH;FMTTYPE=image/jpeg:https://wallenhallen.se/wp-content/uploads/2025/07/LeksandsFHSK_WashiArt_2025_4-kopiera.jpg
END:VEVENT
END:VCALENDAR