BEGIN:VCALENDAR
VERSION:2.0
PRODID:-//Wallénhallen - ECPv6.15.20//NONSGML v1.0//EN
CALSCALE:GREGORIAN
METHOD:PUBLISH
X-WR-CALNAME:Wallénhallen
X-ORIGINAL-URL:https://wallenhallen.se
X-WR-CALDESC:Händelser för Wallénhallen
REFRESH-INTERVAL;VALUE=DURATION:PT1H
X-Robots-Tag:noindex
X-PUBLISHED-TTL:PT1H
BEGIN:VTIMEZONE
TZID:Europe/Stockholm
BEGIN:DAYLIGHT
TZOFFSETFROM:+0100
TZOFFSETTO:+0200
TZNAME:CEST
DTSTART:20240331T010000
END:DAYLIGHT
BEGIN:STANDARD
TZOFFSETFROM:+0200
TZOFFSETTO:+0100
TZNAME:CET
DTSTART:20241027T010000
END:STANDARD
BEGIN:DAYLIGHT
TZOFFSETFROM:+0100
TZOFFSETTO:+0200
TZNAME:CEST
DTSTART:20250330T010000
END:DAYLIGHT
BEGIN:STANDARD
TZOFFSETFROM:+0200
TZOFFSETTO:+0100
TZNAME:CET
DTSTART:20251026T010000
END:STANDARD
BEGIN:DAYLIGHT
TZOFFSETFROM:+0100
TZOFFSETTO:+0200
TZNAME:CEST
DTSTART:20260329T010000
END:DAYLIGHT
BEGIN:STANDARD
TZOFFSETFROM:+0200
TZOFFSETTO:+0100
TZNAME:CET
DTSTART:20261025T010000
END:STANDARD
END:VTIMEZONE
BEGIN:VEVENT
DTSTART;TZID=Europe/Stockholm:20250926T130000
DTEND;TZID=Europe/Stockholm:20250926T143000
DTSTAMP:20260422T041859
CREATED:20250821T133317Z
LAST-MODIFIED:20250821T133317Z
UID:3489-1758891600-1758897000@wallenhallen.se
SUMMARY:Konstnärssamtal - Möt tre mexikanska konstnärer
DESCRIPTION:Välkommen till ett konstnärssamtal med de mexikanska konstnärerna Anabel Alarcón\, Jerónimo Sainz de Agüero och Juan Villavicencio\, som deltar i utställningen Dissipation Point (Skingringspunkt)\, kuraterad av Berenice Hernández under Stockholm Craft Week 2025. \nDe kommer att dela med sig av insikter i sina kreativa processer\, konstnärliga intressen och erfarenheter av att arbeta med lera\, samt reflektera över vad skapande med keramik i Mexiko betyder för dem. \nDatum och tid: Fredag den 26 september kl. 13.00\nPlats: Wallénhallen\, Leksands folkhögskola \nKostnadsfritt. Ingen föranmälan. Alla intresserade är välkomna! \n\nJerónimo Sainz de Agüero\, Ciudad de México\, 1990 \nKonstnär\, lärare\, biolog och keramiker vars arbete spänner över keramik\, performance\, deltagarbaserad konst\, installationscollage och skulptur. Hans praktik rör sig i dialogen mellan kuratoriella\, konstnärliga och pedagogiska aktiviteter. \nJerónimos arbete utforskar tre huvudområden: den biologiska bauplanen och mönster i naturen; antropomorfos och karaktärsbygge; samt queera processer relaterade till hantverk\, tekniker och objekt. I dessa processer införlivar han acetat\, vax\, salt\, hår och andra material i sina verk. \nHan har ställt ut i över 30 nationella och internationella utställningar och har även curerat många projekt som lyfter fram korsningarna mellan konst\, keramik och hantverk. Sedan 2023 är han medlem i International Academy of Ceramics (IAC-AIC). \n@jeronimosainz @elengano.ceramica\nwww.jeronimosainzdeaguero.com \n\nAnabel Alarcón\, Ensenada\, Mexiko 1985 \nKonstnär och kulturarbetare. Hon är kreativ ledare för Lustre Estudio\, en keramikstudio med fokus på undervisning\, produktion och gemenskapsbyggande i Tijuana\, Mexiko. \nHon har organiserat samtal\, utställningar\, specialiserade workshops och sju upplagor av New Wave Ceramic Market\, ett initiativ för att främja uppskattningen av keramik. \nSom konstnär skapar hon främst keramiska skulpturer med hjälp av traditionella tekniker som hon lärt sig från mexikanska hantverkskvinnor. \nHon deltog i Here and There Artist Residency med en separatutställning på Bread and Salt\, San Diego (2025). \n@anniepock\n@lustre.estudio \n\nJuan Villavicencio\, Ensenada\, Mexiko 1986 \nBor och arbetar i Tijuana\, B.C. Hans arbete kretsar främst kring keramik\, där han skapar skulpturer som refererar till bildvärlden från hantverksbutiker\, mexikansk kitsch och traditionella ornamenttekniker.\nHans praktik ifrågasätter gränserna mellan konst\, hantverk och design\, samt den visuella identiteten hos Mexikos norra gränsregion. Han mottog stipendium från National Fund for Culture and the Arts inom kategorin skulptur i programmet Young Creators (2019–2020). Sedan 2021 är han medlem i International Academy of Ceramics i Genève\, Schweiz. \nHans utställningar inkluderar bland annat: \n\nMade in LA: Acts of Living (som en del av AMBOS-kollektivet)\, Hammer Museum\, Los Angeles (2023)\nXLV Premio Nacional de la Cerámica (2022)\nCreación en Movimiento\, Centro Nacional de la Imagen\, Mexico City (2020)\nSalón ACME n.8\, Mexico City (2020)\n9th Biennial of Contemporary Utilitarian Ceramics\, Galería de Arte Contemporáneo de Xalapa (2019)\n2nd National Biennial of Contemporary Ceramics\, CECUT\, Tijuana (2018)\nBeing Here With You / Estando Aquí Contigo\, Museum of Contemporary Art San Diego (2018)\nBC to BC: Some Clay Artists from Baja California to British Columbia\, San Diego Art Institute (2017)\n1st National Biennial of Contemporary Ceramics\, CECUT\, Tijuana (2016)\nLa colección Elias+Fontes (Historia/relato)\, Centro Cultural Tijuana (2015)\nAll Kind of Mexican Art Crafts\, 206 Arte Contemporáneo\, Tijuana (2014)\n\n@juan.villa.vicencio\nwww.juanvillavicencio.com \n\nBerenice Hernández \nArbetar med skulptur\, video\, fotografi och performance\, och utforskar rummets påverkan på samhället och individen. Hon har en BFA från Kunsthøgskolen i Oslo och en MFA från Konstfack\, Stockholm. \nHennes verk har visats i Mexiko\, Sverige\, Norge\, Storbritannien\, USA och Belgien\, med senaste utställningar på Format\, Galleri Svarta Gran\, Etnografiska museet\, Berg Gallery och Norsk Billedhoggerforening. \nHernández verk ingår i samlingarna hos KODE Art Museum\, Nordenfjeldske Kunstindustrimuseum\, Handelsbankens Konstförening\, Statens Konstråd\, Region Dalarna och Stockholm. \nHon arbetar för närvarande med ett offentligt uppdrag för Park Central\, Göteborg. \n@hernandez____b\nhernandezberenice.com
URL:https://wallenhallen.se/aktivitet/konstnarssamtal-mot-tre-mexikanska-konstnarer/
CATEGORIES:Evenemang
ATTACH;FMTTYPE=image/png:https://wallenhallen.se/wp-content/uploads/2025/08/Artisttalk_mexican_artist_250926-scaled.png
END:VEVENT
END:VCALENDAR