BEGIN:VCALENDAR
VERSION:2.0
PRODID:-//Wallénhallen - ECPv6.15.20//NONSGML v1.0//EN
CALSCALE:GREGORIAN
METHOD:PUBLISH
X-ORIGINAL-URL:https://wallenhallen.se
X-WR-CALDESC:Händelser för Wallénhallen
REFRESH-INTERVAL;VALUE=DURATION:PT1H
X-Robots-Tag:noindex
X-PUBLISHED-TTL:PT1H
BEGIN:VTIMEZONE
TZID:Europe/Stockholm
BEGIN:DAYLIGHT
TZOFFSETFROM:+0100
TZOFFSETTO:+0200
TZNAME:CEST
DTSTART:20250330T010000
END:DAYLIGHT
BEGIN:STANDARD
TZOFFSETFROM:+0200
TZOFFSETTO:+0100
TZNAME:CET
DTSTART:20251026T010000
END:STANDARD
BEGIN:DAYLIGHT
TZOFFSETFROM:+0100
TZOFFSETTO:+0200
TZNAME:CEST
DTSTART:20260329T010000
END:DAYLIGHT
BEGIN:STANDARD
TZOFFSETFROM:+0200
TZOFFSETTO:+0100
TZNAME:CET
DTSTART:20261025T010000
END:STANDARD
BEGIN:DAYLIGHT
TZOFFSETFROM:+0100
TZOFFSETTO:+0200
TZNAME:CEST
DTSTART:20270328T010000
END:DAYLIGHT
BEGIN:STANDARD
TZOFFSETFROM:+0200
TZOFFSETTO:+0100
TZNAME:CET
DTSTART:20271031T010000
END:STANDARD
END:VTIMEZONE
BEGIN:VEVENT
DTSTART;TZID=Europe/Stockholm:20260505T130000
DTEND;TZID=Europe/Stockholm:20260505T150000
DTSTAMP:20260421T140835
CREATED:20260417T132733Z
LAST-MODIFIED:20260417T132733Z
UID:3562-1777986000-1777993200@wallenhallen.se
SUMMARY:Presentationer - Kreativa processer
DESCRIPTION:Varmt välkommen till presentationer av Kreativa processer 25/26! \nÅrets deltagare på Kreativa processer på Leksands folkhögskola delar med sig av projekten de arbetat med under läsåret genom presentationer\, utställning\, bilder och film. \nDatum: 5 maj 2026\nTid: kl. 13.00 – 15.00\nPlats: Wallénhallen\, Leksands folkhögskola \nMedverkande deltagare är:\nElla Harrie – Keramik\nEsther Simon – Metall/Silversmide\nFrida Rydell – Keramik\nTova Lindblom – Metall/Silversmide
URL:https://wallenhallen.se/aktivitet/presentationer-kreativa-processer/
CATEGORIES:Evenemang
ATTACH;FMTTYPE=image/png:https://wallenhallen.se/wp-content/uploads/2026/04/Leksandsfhsk_pres_kp_25_26_2.png
END:VEVENT
END:VCALENDAR