BEGIN:VCALENDAR
VERSION:2.0
PRODID:-//Wallénhallen - ECPv6.15.20//NONSGML v1.0//EN
CALSCALE:GREGORIAN
METHOD:PUBLISH
X-WR-CALNAME:Wallénhallen
X-ORIGINAL-URL:https://wallenhallen.se
X-WR-CALDESC:Händelser för Wallénhallen
REFRESH-INTERVAL;VALUE=DURATION:PT1H
X-Robots-Tag:noindex
X-PUBLISHED-TTL:PT1H
BEGIN:VTIMEZONE
TZID:Europe/Stockholm
BEGIN:DAYLIGHT
TZOFFSETFROM:+0100
TZOFFSETTO:+0200
TZNAME:CEST
DTSTART:20240331T010000
END:DAYLIGHT
BEGIN:STANDARD
TZOFFSETFROM:+0200
TZOFFSETTO:+0100
TZNAME:CET
DTSTART:20241027T010000
END:STANDARD
BEGIN:DAYLIGHT
TZOFFSETFROM:+0100
TZOFFSETTO:+0200
TZNAME:CEST
DTSTART:20250330T010000
END:DAYLIGHT
BEGIN:STANDARD
TZOFFSETFROM:+0200
TZOFFSETTO:+0100
TZNAME:CET
DTSTART:20251026T010000
END:STANDARD
BEGIN:DAYLIGHT
TZOFFSETFROM:+0100
TZOFFSETTO:+0200
TZNAME:CEST
DTSTART:20260329T010000
END:DAYLIGHT
BEGIN:STANDARD
TZOFFSETFROM:+0200
TZOFFSETTO:+0100
TZNAME:CET
DTSTART:20261025T010000
END:STANDARD
END:VTIMEZONE
BEGIN:VEVENT
DTSTART;VALUE=DATE:20250501
DTEND;VALUE=DATE:20250502
DTSTAMP:20260422T090646
CREATED:20250402T114329Z
LAST-MODIFIED:20250514T204638Z
UID:3449-1746057600-1746143999@wallenhallen.se
SUMMARY:Invigning - Leksands folkhögskolas VÅRUTSTÄLLNING 2025
DESCRIPTION:Torsdagen den första maj bjuder deltagare på Leksands folkhögskola in till invigning av årets vårutställningen på skolan. Utställningen öppnas kl. 11 med invigningstal av rektor Anki Gullback. Det kommer också att bjudas på bubbel och livemusik med Soulandet från Kulturskolan. \nVårutställningen består av 150 verk – skapade av deltagare på Leksands folkhögskola – och kommer att visas på hela skolområdet\, såväl inomhus som utomhus. \nLeksands folkhögskola har utbildningar inom design\, metallhantverk\, bokbindning\, keramik och allmän linje. Verken tar ofta avstamp i den utbildning deltagaren går\, men många har också tagit ut svängarna. \nUtställningen pågår den 1 – 4 maj.\nÖppet 11 – 16 alla dagar.\nUtöver själva utställningen kommer det även att finnas fika\, lotter och hantverk att köpa i skolans matsal. \nVarmt välkomna!
URL:https://wallenhallen.se/aktivitet/invigning-leksands-folkhogskolas-varutstallning-2025/
CATEGORIES:Avslutat evenemang,Evenemang
ATTACH;FMTTYPE=image/png:https://wallenhallen.se/wp-content/uploads/2025/04/LFHSK_varutst25_WEB_header.png
END:VEVENT
BEGIN:VEVENT
DTSTART;TZID=Europe/Stockholm:20250501T110000
DTEND;TZID=Europe/Stockholm:20250504T160000
DTSTAMP:20260422T090646
CREATED:20250324T121619Z
LAST-MODIFIED:20250514T204621Z
UID:3442-1746097200-1746374400@wallenhallen.se
SUMMARY:Leksands folkhögskolas VÅRUTSTÄLLNING 2025
DESCRIPTION:Torsdagen den första maj bjuder deltagare på Leksands folkhögskola in till invigning av årets vårutställningen på skolan. Utställningen öppnas kl. 11 med invigningstal av rektor Anki Gullback. Det kommer också att bjudas på bubbel och livemusik med Soulandet från Kulturskolan. \nVårutställningen består av 150 verk – skapade av deltagare på Leksands folkhögskola – och kommer att visas på hela skolområdet\, såväl inomhus som utomhus. \nLeksands folkhögskola har utbildningar inom design\, metallhantverk\, bokbindning\, keramik och allmän linje. Verken tar ofta avstamp i den utbildning deltagaren går\, men många har också tagit ut svängarna. \nUtställningen pågår den 1 – 4 maj.\nÖppet 11 – 16 alla dagar.\nUtöver själva utställningen kommer det även att finnas fika\, lotter och hantverk att köpa i skolans matsal. \nVarmt välkomna!
URL:https://wallenhallen.se/aktivitet/leksands-folkhogskolas-varutstallning-2025/
CATEGORIES:Avslutad utställning,Utställningar
ATTACH;FMTTYPE=image/png:https://wallenhallen.se/wp-content/uploads/2025/03/LFHSK_varutst25_WEB_header_BLA.png
END:VEVENT
BEGIN:VEVENT
DTSTART;TZID=Europe/Stockholm:20250515T173000
DTEND;TZID=Europe/Stockholm:20250515T183000
DTSTAMP:20260422T090646
CREATED:20250402T115341Z
LAST-MODIFIED:20250402T115503Z
UID:3452-1747330200-1747333800@wallenhallen.se
SUMMARY:Föreläsning - Vad är poängen med oro?
DESCRIPTION:Föreläsning med psykolog\, docent och författare Erik Andersson. \nOro är något som de flesta av oss känner igen att man får emellanåt. \n• Men vad är oro egentligen?\n• Hur uppstår den\, och varför kan den ibland gå överstyr?\n• Hur kan man hjälpa en medmänniska som fastnar i återkommande tankeloopar av orostankar? \nI denna föreläsning kommer Erik att gå igenom hur man kan förstå oro och hur man mer effektivt kan hantera jobbiga orostankar. Du kommer också få ta del av några spännande forskningsstudier i ämnet. \nTanken att du ska få en bra förståelse för vad oro är och hur du kan hantera dina orostankar på ett mer funktionellt sätt.\nErik Andersson är legitimerad psykolog och forskare vid Karolinska Institutet. Han har forskat på behandling av oro i mer än 10 år och är medförfattare till ”Orosboken – ta hand om din oro i fem steg” \nEfter föreläsningen får du möjlighet att delta i en kostnadsfri bokcirkel med Eriks bok och Folkuniversitetets studiematerial som grund. \nFöreläsningen genomförs med stöd av Folkuniversitetsföreningen. Ingen föranmälan. \nVarmt välkommen!
URL:https://wallenhallen.se/aktivitet/forelasning-vad-ar-poangen-med-oro/
CATEGORIES:Evenemang
ATTACH;FMTTYPE=image/jpeg:https://wallenhallen.se/wp-content/uploads/2025/04/485409744_1218885213579402_8358847941714754412_n-scaled.jpg
END:VEVENT
BEGIN:VEVENT
DTSTART;TZID=Europe/Stockholm:20250520T130000
DTEND;TZID=Europe/Stockholm:20250520T150000
DTSTAMP:20260422T090646
CREATED:20250514T204227Z
LAST-MODIFIED:20250514T204227Z
UID:3473-1747746000-1747753200@wallenhallen.se
SUMMARY:Presentationer Projektgrupp - Fördjupning 24/25
DESCRIPTION:Varmt välkommen till presentationer av Projektgrupp – Fördjupning 24/25! \nDeltagare i Projektgrupp – Fördjupning 24/25 på Leksands folkhögskola kommer att dela med sig av de projekt de arbetat med under läsåret genom presentationer\, utställning\, bilder och film. \nDatum: 20 maj 2025\nTid: kl. 13.00 – 15.00\nPlats: Wallénhallen\, Leksands folkhögskola \nMedverkande deltagare är:\nBenjamin Ching – keramik\nBos Maria Snöguld – kreativt entreprenörskap\nJonathan Johansson – design/metall\nJosefine Söderberg – design\nJulia Skoglund – keramik\nMaria Lindén – kreativt entreprenörskap\nSofia Zetterström – kreativt entreprenörskap\nYlva Skarp – kreativt entreprenörskap
URL:https://wallenhallen.se/aktivitet/presentationer-projektgrupp-fordjupning-24-25/
CATEGORIES:Evenemang
ATTACH;FMTTYPE=image/png:https://wallenhallen.se/wp-content/uploads/2025/05/LeksandsFHSK_presentationer_PG_fordjupning_24_25_2.png
END:VEVENT
END:VCALENDAR